BEGIN:VCALENDAR
VERSION:2.0
PRODID:-//www.methactonfoundation.org//NONSGML kigkonsult.se iCalcreator 2.
 30.10//
CALSCALE:GREGORIAN
METHOD:PUBLISH
UID:7a08c92b-3767-4d03-af9c-6a97af47eb08
X-WR-CALDESC:Please join us for our 3rd Annual Spring Social! Registration 
 is not required but please RSVP here to help us with planning. The first 1
 00 people to register will receive a free drink voucher upon arrival and w
 ill be entered into our Prize Raffle. We look forward to seeing you on Jun
 e 5th!
X-WR-RELCALID:3810b1ea647503ab36b1fc5f652dcc19
X-WR-TIMEZONE:America/New_York
BEGIN:VTIMEZONE
TZID:America/New_York
BEGIN:STANDARD
TZNAME:EST
DTSTART:20251102T020000
TZOFFSETFROM:-0400
TZOFFSETTO:-0500
RDATE:20261101T020000
RDATE:20271107T020000
END:STANDARD
BEGIN:DAYLIGHT
TZNAME:EDT
DTSTART:20260308T020000
TZOFFSETFROM:-0500
TZOFFSETTO:-0400
RDATE:20270314T020000
END:DAYLIGHT
END:VTIMEZONE
BEGIN:VEVENT
UID:53751bb6-07ad-49a0-9b9e-ff8c268d76ba
DTSTAMP:20260424T172717Z
DESCRIPTION:Please join us for our 3rd Annual Spring Social! Registration i
 s not required but please RSVP here to help us with planning. The first 10
 0 people to register will receive a free drink voucher upon arrival and wi
 ll be entered into our Prize Raffle. We look forward to seeing you on June
  5th!
DTSTART;TZID=America/New_York:20260605T200000
DTEND;TZID=America/New_York:20260605T230000
LOCATION:Eagleville Taphouse\, 3300 Ridge Pike\, Eagleville\, PA 19403 US
SUMMARY:Methacton Alumni & Friends Spring Social
END:VEVENT
END:VCALENDAR
